BEGIN:VCALENDAR
VERSION:2.0
PRODID:-//hacksw/handcal//NONSGML v1.0//EN
METHOD:PUBLISH
CALSCALE:GREGORIAN
BEGIN:VEVENT
UID:69e831114a336
DTSTART;VALUE=DATE:20260411
DTEND;VALUE=DATE:20260411
LOCATION:5700 Saint Bernard Drive\, Riverdale Park\, Riverdale\, MD 2
 0737\, USA
DESCRIPTION:Pascua Juvenil &#8211\; Easter Youth Celebration &#8211\;
  Ages 13-17
URL;VALUE=URI:
SUMMARY:Pascua Juvenil &#8211\; Easter Youth Celebration &#8211\; Age
 s 13-17
END:VEVENT
END:VCALENDAR
