BEGIN:VCALENDAR
VERSION:2.0
PRODID:-//hacksw/handcal//NONSGML v1.0//EN
METHOD:PUBLISH
CALSCALE:GREGORIAN
BEGIN:VEVENT
UID:69e9f2e7baf28
DTSTART;VALUE=DATE:20260426
DTEND;VALUE=DATE:20260424
LOCATION:Cathedral of St. Matthew the Apostle\, Rhode Island Avenue N
 orthwest\, Washington\, DC\, USA
DESCRIPTION:Lessons and Carols for Earth Day
URL;VALUE=URI:
SUMMARY:Lessons and Carols for Earth Day
END:VEVENT
END:VCALENDAR
