BEGIN:VCALENDAR
VERSION:2.0
PRODID:-//hacksw/handcal//NONSGML v1.0//EN
METHOD:PUBLISH
CALSCALE:GREGORIAN
BEGIN:VEVENT
UID:69e97e9052016
DTSTART;VALUE=DATE:20260607
DTEND;VALUE=DATE:20260607
LOCATION:
DESCRIPTION:Eucharistic Procession for Immigrants &#8211\; Feast of C
 orpus Christi
URL;VALUE=URI:
SUMMARY:Eucharistic Procession for Immigrants &#8211\; Feast of Corpu
 s Christi
END:VEVENT
END:VCALENDAR
