BEGIN:VCALENDAR
VERSION:2.0
PRODID:-//hacksw/handcal//NONSGML v1.0//EN
METHOD:PUBLISH
CALSCALE:GREGORIAN
BEGIN:VEVENT
UID:69e4e9ba32f48
DTSTART;VALUE=DATE:20260425
DTEND;VALUE=DATE:20260425
LOCATION:
DESCRIPTION:Women&#8217\;s Day of Prayer and Healing – Entering Can
 aan
URL;VALUE=URI:
SUMMARY:Women&#8217\;s Day of Prayer and Healing – Entering Canaan
END:VEVENT
END:VCALENDAR
