BEGIN:VCALENDAR
VERSION:2.0
PRODID:-//hacksw/handcal//NONSGML v1.0//EN
METHOD:PUBLISH
CALSCALE:GREGORIAN
BEGIN:VEVENT
UID:69ea58e8a21dd
DTSTART;VALUE=DATE:20251004
DTEND;VALUE=DATE:20251006
LOCATION:
DESCRIPTION:Feast Day of Saint Francis Assisi &#8211\; The Blessing o
 f the Animals October 4 &#038\; 5
URL;VALUE=URI:
SUMMARY:Feast Day of Saint Francis Assisi &#8211\; The Blessing of th
 e Animals October 4 &#038\; 5
END:VEVENT
END:VCALENDAR
