BEGIN:VCALENDAR
VERSION:2.0
PRODID:-//hacksw/handcal//NONSGML v1.0//EN
METHOD:PUBLISH
CALSCALE:GREGORIAN
BEGIN:VEVENT
UID:69e4e9c641004
DTSTART;VALUE=DATE:20260502
DTEND;VALUE=DATE:20260502
LOCATION:Basilica of the National Shrine of the Immaculate Conception
 \, 400 Michigan Ave NE\, Washington D.C.\, DC 20017\, USA
DESCRIPTION:Asian and Pacific Island Catholics Marian Pilgrimage
URL;VALUE=URI:
SUMMARY:Asian and Pacific Island Catholics Marian Pilgrimage
END:VEVENT
END:VCALENDAR
